BEGIN:VCALENDAR
VERSION:2.0
PRODID:-//Tukios.com/
BEGIN:VEVENT
UID:c2cd8c6a-dbb0-42c5-bd41-55e9ca62f2e4@www.applebeefuneralhome.com
DTSTAMP:20260421T080510Z
DTSTART:20260420T140000Z
DTEND:20260420T150000Z
SUMMARY:Mass
DESCRIPTION:
URL:https://www.applebeefuneralhome.com/obituaries/terrence-terry-tripp
LOCATION: 35 Adams Place  Delmar NY 12054
GEO:42.6221064;-73.8303275
END:VEVENT
END:VCALENDAR