BEGIN:VCALENDAR
VERSION:2.0
PRODID:-//Tukios.com/
BEGIN:VEVENT
UID:4cb586cb-2859-433f-b9c7-2bbbb6262ecc@www.applebeefuneralhome.com
DTSTAMP:20260422T181052Z
DTSTART:20260504T150000Z
DTEND:20260504T163000Z
SUMMARY:Funeral Service
DESCRIPTION:
URL:https://www.applebeefuneralhome.com/obituaries/stanley-hansen
LOCATION:Metropolitan Baptist Church 105 2nd St.  Albany NY 12210
GEO:42.6600804;-73.7554163
END:VEVENT
END:VCALENDAR