BEGIN:VCALENDAR
VERSION:2.0
PRODID:-//Tukios.com/
BEGIN:VEVENT
UID:de336385-f2f8-4602-bfb0-97305f5fe469@www.applebeefuneralhome.com
DTSTAMP:20260421T235602Z
DTSTART:20260424T140000Z
DTEND:20260424T150000Z
SUMMARY:Graveside Service
DESCRIPTION:
URL:https://www.applebeefuneralhome.com/obituaries/souad-nejame
LOCATION: 200 Duell Road  Schuylerville NY 12871
GEO:43.0261327;-73.6151241
END:VEVENT
END:VCALENDAR