BEGIN:VCALENDAR
VERSION:2.0
PRODID:-//Tukios.com/
BEGIN:VEVENT
UID:e6b33aa4-be61-4857-9c82-dfc56d54d069@www.applebeefuneralhome.com
DTSTAMP:20260424T010344Z
DTSTART:20260428T200000Z
DTEND:20260428T230000Z
SUMMARY:Public Viewing
DESCRIPTION:
URL:https://www.applebeefuneralhome.com/obituaries/madeleine-futia
LOCATION:Applebee Funeral Home 403 Kenwood Avenue  Delmar NY 12054
GEO:42.6226781;-73.8336264
END:VEVENT
END:VCALENDAR