BEGIN:VCALENDAR
VERSION:2.0
PRODID:-//Tukios.com/
BEGIN:VEVENT
UID:dab50d2e-9d74-4f89-a94b-e7a1330a3456@www.applebeefuneralhome.com
DTSTAMP:20260424T010220Z
DTSTART:20260428T230000Z
DTEND:20260429T000000Z
SUMMARY:Memorial Service
DESCRIPTION:
URL:https://www.applebeefuneralhome.com/obituaries/madeleine-futia
LOCATION:Applebee Funeral Home 403 Kenwood Avenue  Delmar NY 12054
GEO:42.6226781;-73.8336264
END:VEVENT
END:VCALENDAR