BEGIN:VCALENDAR
VERSION:2.0
PRODID:-//Tukios.com/
BEGIN:VEVENT
UID:b10b28f6-e5bb-46b4-88cb-a3ef970c2b91@www.applebeefuneralhome.com
DTSTAMP:20260424T010045Z
DTSTART:20260429T130000Z
DTEND:20260429T140000Z
SUMMARY:Rite of Committal
DESCRIPTION:
URL:https://www.applebeefuneralhome.com/obituaries/madeleine-futia
LOCATION:Our Lady Help of Christians Cemetery 41 Jolley Road  Glenmont NY 
	12077
GEO:42.6020266;-73.7812477
END:VEVENT
END:VCALENDAR