BEGIN:VCALENDAR
VERSION:2.0
PRODID:-//Tukios.com/
BEGIN:VEVENT
UID:babf0786-04f8-4594-8fa2-3612f1a5b092@www.applebeefuneralhome.com
DTSTAMP:20260421T000657Z
DTSTART:20260509T170000Z
DTEND:20260509T190000Z
SUMMARY:Memorial Gathering
DESCRIPTION:
URL:https://www.applebeefuneralhome.com/obituaries/andras-kovacs
LOCATION: 403 Kenwood Ave  Delmar NY 12054
GEO:42.6226781;-73.8336264
END:VEVENT
END:VCALENDAR